BEGIN:VCALENDAR
VERSION:2.0
PRODID:-//Ohio Grand Chapter - ECPv6.15.20//NONSGML v1.0//EN
CALSCALE:GREGORIAN
METHOD:PUBLISH
X-WR-CALNAME:Ohio Grand Chapter
X-ORIGINAL-URL:https://ohiooes.org
X-WR-CALDESC:Events for Ohio Grand Chapter
REFRESH-INTERVAL;VALUE=DURATION:PT1H
X-Robots-Tag:noindex
X-PUBLISHED-TTL:PT1H
BEGIN:VTIMEZONE
TZID:America/New_York
BEGIN:DAYLIGHT
TZOFFSETFROM:-0500
TZOFFSETTO:-0400
TZNAME:EDT
DTSTART:20250309T070000
END:DAYLIGHT
BEGIN:STANDARD
TZOFFSETFROM:-0400
TZOFFSETTO:-0500
TZNAME:EST
DTSTART:20251102T060000
END:STANDARD
BEGIN:DAYLIGHT
TZOFFSETFROM:-0500
TZOFFSETTO:-0400
TZNAME:EDT
DTSTART:20260308T070000
END:DAYLIGHT
BEGIN:STANDARD
TZOFFSETFROM:-0400
TZOFFSETTO:-0500
TZNAME:EST
DTSTART:20261101T060000
END:STANDARD
BEGIN:DAYLIGHT
TZOFFSETFROM:-0500
TZOFFSETTO:-0400
TZNAME:EDT
DTSTART:20270314T070000
END:DAYLIGHT
BEGIN:STANDARD
TZOFFSETFROM:-0400
TZOFFSETTO:-0500
TZNAME:EST
DTSTART:20271107T060000
END:STANDARD
END:VTIMEZONE
BEGIN:VEVENT
DTSTART;TZID=America/New_York:20260421T190000
DTEND;TZID=America/New_York:20260421T190000
DTSTAMP:20260421T013824
CREATED:20260104T000014Z
LAST-MODIFIED:20260409T001406Z
UID:9572-1776798000-1776798000@ohiooes.org
SUMMARY:Inspection Mt. Healthy by AGC
DESCRIPTION:
URL:https://ohiooes.org/event/inspection-mt-healthy-by-agc/
LOCATION:Mt. Healthy Chapter\, 7608 Hamilton Avenue\, Cincinnati\, OH\, 45231\, United States
CATEGORIES:Mt. Healthy
END:VEVENT
BEGIN:VEVENT
DTSTART;TZID=America/New_York:20260421T193000
DTEND;TZID=America/New_York:20260421T193000
DTSTAMP:20260421T013824
CREATED:20260103T235824Z
LAST-MODIFIED:20260103T235824Z
UID:9570-1776799800-1776799800@ohiooes.org
SUMMARY:Inspection Falls by WGM
DESCRIPTION:
URL:https://ohiooes.org/event/inspection-falls-by-wgm/
LOCATION:Falls Masonic Center\, 2307 Sacket Avenue\, Cuyahoga Falls\, OH\, 44223\, United States
CATEGORIES:Falls
END:VEVENT
BEGIN:VEVENT
DTSTART;TZID=America/New_York:20260421T193000
DTEND;TZID=America/New_York:20260421T193000
DTSTAMP:20260421T013824
CREATED:20260123T032610Z
LAST-MODIFIED:20260123T032610Z
UID:9988-1776799800-1776799800@ohiooes.org
SUMMARY:Wilkesville Inspection
DESCRIPTION:
URL:https://ohiooes.org/event/wilkesville-inspection/
LOCATION:Wilkesville Chapter\, 160 Main St\, Wilkesville\, OH\, 45695\, United States
CATEGORIES:Wilkesville
END:VEVENT
BEGIN:VEVENT
DTSTART;TZID=America/New_York:20260421T193000
DTEND;TZID=America/New_York:20260421T193000
DTSTAMP:20260421T013824
CREATED:20260123T032943Z
LAST-MODIFIED:20260123T032943Z
UID:9990-1776799800-1776799800@ohiooes.org
SUMMARY:Mt. Moriah Inspection
DESCRIPTION:
URL:https://ohiooes.org/event/mt-moriah-inspection/
LOCATION:Mt Moriah Masonic Lodge\, 110 6th Street\, Beverly\, OH\, 45715\, United States
CATEGORIES:Mt. Moriah
END:VEVENT
BEGIN:VEVENT
DTSTART;TZID=America/New_York:20260421T193000
DTEND;TZID=America/New_York:20260421T193000
DTSTAMP:20260421T013824
CREATED:20260123T033107Z
LAST-MODIFIED:20260123T033107Z
UID:9993-1776799800-1776799800@ohiooes.org
SUMMARY:Farmersville Inspection
DESCRIPTION:
URL:https://ohiooes.org/event/farmersville-inspection/
LOCATION:Farmersville Chapter\, 50 Jackson St\, Farmersville\, OH\, 45325\, United States
CATEGORIES:Farmersville
END:VEVENT
END:VCALENDAR