BEGIN:VCALENDAR
VERSION:2.0
PRODID:-//Ohio Grand Chapter - ECPv6.15.20//NONSGML v1.0//EN
CALSCALE:GREGORIAN
METHOD:PUBLISH
X-ORIGINAL-URL:https://ohiooes.org
X-WR-CALDESC:Events for Ohio Grand Chapter
REFRESH-INTERVAL;VALUE=DURATION:PT1H
X-Robots-Tag:noindex
X-PUBLISHED-TTL:PT1H
BEGIN:VTIMEZONE
TZID:America/New_York
BEGIN:DAYLIGHT
TZOFFSETFROM:-0500
TZOFFSETTO:-0400
TZNAME:EDT
DTSTART:20240310T070000
END:DAYLIGHT
BEGIN:STANDARD
TZOFFSETFROM:-0400
TZOFFSETTO:-0500
TZNAME:EST
DTSTART:20241103T060000
END:STANDARD
BEGIN:DAYLIGHT
TZOFFSETFROM:-0500
TZOFFSETTO:-0400
TZNAME:EDT
DTSTART:20250309T070000
END:DAYLIGHT
BEGIN:STANDARD
TZOFFSETFROM:-0400
TZOFFSETTO:-0500
TZNAME:EST
DTSTART:20251102T060000
END:STANDARD
BEGIN:DAYLIGHT
TZOFFSETFROM:-0500
TZOFFSETTO:-0400
TZNAME:EDT
DTSTART:20260308T070000
END:DAYLIGHT
BEGIN:STANDARD
TZOFFSETFROM:-0400
TZOFFSETTO:-0500
TZNAME:EST
DTSTART:20261101T060000
END:STANDARD
BEGIN:DAYLIGHT
TZOFFSETFROM:-0500
TZOFFSETTO:-0400
TZNAME:EDT
DTSTART:20270314T070000
END:DAYLIGHT
BEGIN:STANDARD
TZOFFSETFROM:-0400
TZOFFSETTO:-0500
TZNAME:EST
DTSTART:20271107T060000
END:STANDARD
END:VTIMEZONE
BEGIN:VEVENT
DTSTART;TZID=America/New_York:20260318T133000
DTEND;TZID=America/New_York:20260318T133000
DTSTAMP:20260422T032111
CREATED:20260123T015847Z
LAST-MODIFIED:20260123T015847Z
UID:9896-1773840600-1773840600@ohiooes.org
SUMMARY:Ann Rutledge Inspection
DESCRIPTION:
URL:https://ohiooes.org/event/ann-rutledge-inspection/
LOCATION:Ann Rutledge Chapter\, 15300 Detroit Ave\, Lakewood\, OH\, 44107\, United States
CATEGORIES:Ann Rutledge
END:VEVENT
BEGIN:VEVENT
DTSTART;TZID=America/New_York:20251105T140000
DTEND;TZID=America/New_York:20251105T140000
DTSTAMP:20260422T032111
CREATED:20251022T000828Z
LAST-MODIFIED:20251022T000828Z
UID:9122-1762351200-1762351200@ohiooes.org
SUMMARY:Ann Rutledge Chapter Installation
DESCRIPTION:
URL:https://ohiooes.org/event/ann-rutledge-chapter-installation/
LOCATION:Ann Rutledge Chapter\, 15300 Detroit Ave\, Lakewood\, OH\, 44107\, United States
CATEGORIES:Ann Rutledge
END:VEVENT
BEGIN:VEVENT
DTSTART;TZID=America/New_York:20250507T193000
DTEND;TZID=America/New_York:20250507T193000
DTSTAMP:20260422T032111
CREATED:20250313T210028Z
LAST-MODIFIED:20250313T210028Z
UID:7522-1746646200-1746646200@ohiooes.org
SUMMARY:Ann Rutledge Chapter Inspection
DESCRIPTION:
URL:https://ohiooes.org/event/ann-rutledge-chapter-inspection/
LOCATION:Ann Rutledge Chapter\, 15300 Detroit Ave\, Lakewood\, OH\, 44107\, United States
CATEGORIES:Ann Rutledge
END:VEVENT
END:VCALENDAR