BEGIN:VCALENDAR
VERSION:2.0
PRODID:-//Ohio Grand Chapter - ECPv6.15.20//NONSGML v1.0//EN
CALSCALE:GREGORIAN
METHOD:PUBLISH
X-ORIGINAL-URL:https://ohiooes.org
X-WR-CALDESC:Events for Ohio Grand Chapter
REFRESH-INTERVAL;VALUE=DURATION:PT1H
X-Robots-Tag:noindex
X-PUBLISHED-TTL:PT1H
BEGIN:VTIMEZONE
TZID:America/New_York
BEGIN:DAYLIGHT
TZOFFSETFROM:-0500
TZOFFSETTO:-0400
TZNAME:EDT
DTSTART:20240310T070000
END:DAYLIGHT
BEGIN:STANDARD
TZOFFSETFROM:-0400
TZOFFSETTO:-0500
TZNAME:EST
DTSTART:20241103T060000
END:STANDARD
BEGIN:DAYLIGHT
TZOFFSETFROM:-0500
TZOFFSETTO:-0400
TZNAME:EDT
DTSTART:20250309T070000
END:DAYLIGHT
BEGIN:STANDARD
TZOFFSETFROM:-0400
TZOFFSETTO:-0500
TZNAME:EST
DTSTART:20251102T060000
END:STANDARD
BEGIN:DAYLIGHT
TZOFFSETFROM:-0500
TZOFFSETTO:-0400
TZNAME:EDT
DTSTART:20260308T070000
END:DAYLIGHT
BEGIN:STANDARD
TZOFFSETFROM:-0400
TZOFFSETTO:-0500
TZNAME:EST
DTSTART:20261101T060000
END:STANDARD
BEGIN:DAYLIGHT
TZOFFSETFROM:-0500
TZOFFSETTO:-0400
TZNAME:EDT
DTSTART:20270314T070000
END:DAYLIGHT
BEGIN:STANDARD
TZOFFSETFROM:-0400
TZOFFSETTO:-0500
TZNAME:EST
DTSTART:20271107T060000
END:STANDARD
END:VTIMEZONE
BEGIN:VEVENT
DTSTART;TZID=America/New_York:20260326T193000
DTEND;TZID=America/New_York:20260326T193000
DTSTAMP:20260421T075652
CREATED:20260123T020907Z
LAST-MODIFIED:20260312T233957Z
UID:9912-1774553400-1774553400@ohiooes.org
SUMMARY:Brecksville Inspection
DESCRIPTION:March 2026 Brecksville
URL:https://ohiooes.org/event/brecksville-inspection/
LOCATION:Brookside Masonic Temple\, 10200 Memphis Avenue\, Brooklyn\, 44144\, United States
CATEGORIES:Brecksville
END:VEVENT
BEGIN:VEVENT
DTSTART;TZID=America/New_York:20250322T193000
DTEND;TZID=America/New_York:20250322T193000
DTSTAMP:20260421T075652
CREATED:20250226T183908Z
LAST-MODIFIED:20250226T183908Z
UID:7082-1742671800-1742671800@ohiooes.org
SUMMARY:Brecksville Chapter Inspection
DESCRIPTION:
URL:https://ohiooes.org/event/brecksville-chapter-inspection/
LOCATION:Brecksville Chapter\, 8922 Brecksville Road\, Brecksville\, OH\, 44141\, United States
CATEGORIES:Brecksville
END:VEVENT
END:VCALENDAR