BEGIN:VCALENDAR
VERSION:2.0
PRODID:-//Ohio Grand Chapter - ECPv6.15.20//NONSGML v1.0//EN
CALSCALE:GREGORIAN
METHOD:PUBLISH
X-WR-CALNAME:Ohio Grand Chapter
X-ORIGINAL-URL:https://ohiooes.org
X-WR-CALDESC:Events for Ohio Grand Chapter
REFRESH-INTERVAL;VALUE=DURATION:PT1H
X-Robots-Tag:noindex
X-PUBLISHED-TTL:PT1H
BEGIN:VTIMEZONE
TZID:America/New_York
BEGIN:DAYLIGHT
TZOFFSETFROM:-0500
TZOFFSETTO:-0400
TZNAME:EDT
DTSTART:20240310T070000
END:DAYLIGHT
BEGIN:STANDARD
TZOFFSETFROM:-0400
TZOFFSETTO:-0500
TZNAME:EST
DTSTART:20241103T060000
END:STANDARD
BEGIN:DAYLIGHT
TZOFFSETFROM:-0500
TZOFFSETTO:-0400
TZNAME:EDT
DTSTART:20250309T070000
END:DAYLIGHT
BEGIN:STANDARD
TZOFFSETFROM:-0400
TZOFFSETTO:-0500
TZNAME:EST
DTSTART:20251102T060000
END:STANDARD
BEGIN:DAYLIGHT
TZOFFSETFROM:-0500
TZOFFSETTO:-0400
TZNAME:EDT
DTSTART:20260308T070000
END:DAYLIGHT
BEGIN:STANDARD
TZOFFSETFROM:-0400
TZOFFSETTO:-0500
TZNAME:EST
DTSTART:20261101T060000
END:STANDARD
END:VTIMEZONE
BEGIN:VEVENT
DTSTART;TZID=America/New_York:20250312T190000
DTEND;TZID=America/New_York:20250312T190000
DTSTAMP:20260421T074302
CREATED:20250226T182031Z
LAST-MODIFIED:20250226T182031Z
UID:7046-1741806000-1741806000@ohiooes.org
SUMMARY:Mt. Healthy Chapter Inspection
DESCRIPTION:
URL:https://ohiooes.org/event/mt-healthy-chapter-inspection/
LOCATION:Mt. Healthy Chapter\, 7608 Hamilton Avenue\, Cincinnati\, OH\, 45231\, United States
CATEGORIES:Mt. Healthy
END:VEVENT
BEGIN:VEVENT
DTSTART;TZID=America/New_York:20250329T130000
DTEND;TZID=America/New_York:20250329T130000
DTSTAMP:20260421T074302
CREATED:20250226T185212Z
LAST-MODIFIED:20250226T185212Z
UID:7109-1743253200-1743253200@ohiooes.org
SUMMARY:Visitation for AGC
DESCRIPTION:
URL:https://ohiooes.org/event/visitation-for-agc/
LOCATION:Mt. Healthy Chapter\, 7608 Hamilton Avenue\, Cincinnati\, OH\, 45231\, United States
CATEGORIES:Mt. Healthy
END:VEVENT
END:VCALENDAR