BEGIN:VCALENDAR
VERSION:2.0
PRODID:-//Ohio Grand Chapter - ECPv6.15.20//NONSGML v1.0//EN
CALSCALE:GREGORIAN
METHOD:PUBLISH
X-ORIGINAL-URL:https://ohiooes.org
X-WR-CALDESC:Events for Ohio Grand Chapter
REFRESH-INTERVAL;VALUE=DURATION:PT1H
X-Robots-Tag:noindex
X-PUBLISHED-TTL:PT1H
BEGIN:VTIMEZONE
TZID:America/New_York
BEGIN:DAYLIGHT
TZOFFSETFROM:-0500
TZOFFSETTO:-0400
TZNAME:EDT
DTSTART:20250309T070000
END:DAYLIGHT
BEGIN:STANDARD
TZOFFSETFROM:-0400
TZOFFSETTO:-0500
TZNAME:EST
DTSTART:20251102T060000
END:STANDARD
BEGIN:DAYLIGHT
TZOFFSETFROM:-0500
TZOFFSETTO:-0400
TZNAME:EDT
DTSTART:20260308T070000
END:DAYLIGHT
BEGIN:STANDARD
TZOFFSETFROM:-0400
TZOFFSETTO:-0500
TZNAME:EST
DTSTART:20261101T060000
END:STANDARD
BEGIN:DAYLIGHT
TZOFFSETFROM:-0500
TZOFFSETTO:-0400
TZNAME:EDT
DTSTART:20270314T070000
END:DAYLIGHT
BEGIN:STANDARD
TZOFFSETFROM:-0400
TZOFFSETTO:-0500
TZNAME:EST
DTSTART:20271107T060000
END:STANDARD
END:VTIMEZONE
BEGIN:VEVENT
DTSTART;TZID=America/New_York:20260209T193000
DTEND;TZID=America/New_York:20260209T193000
DTSTAMP:20260421T060641
CREATED:20260109T014115Z
LAST-MODIFIED:20260109T014115Z
UID:9778-1770665400-1770665400@ohiooes.org
SUMMARY:Visitation for PGM & Reception for Grand Representative
DESCRIPTION:Sharon’s invitation
URL:https://ohiooes.org/event/visitation-for-pgm-reception-for-grand-representative/
LOCATION:Heath Masonic Complex\, 875 Irving Wick Dr. W\, Heath\, OH\, 43056\, United States
CATEGORIES:Heath
END:VEVENT
BEGIN:VEVENT
DTSTART;TZID=America/New_York:20260210T193000
DTEND;TZID=America/New_York:20260210T193000
DTSTAMP:20260421T060641
CREATED:20251229T233115Z
LAST-MODIFIED:20251229T233115Z
UID:9482-1770751800-1770751800@ohiooes.org
SUMMARY:WGP Visitation at Medina Chapter
DESCRIPTION:
URL:https://ohiooes.org/event/wgp-visitation-at-medina-chapter/
LOCATION:Medina Chapter\, 660 High Street\, Wadsworth\, OH\, 44281\, United States
CATEGORIES:Medina
END:VEVENT
BEGIN:VEVENT
DTSTART;TZID=America/New_York:20260211T183000
DTEND;TZID=America/New_York:20260211T183000
DTSTAMP:20260421T060641
CREATED:20251229T234104Z
LAST-MODIFIED:20260105T213412Z
UID:9484-1770834600-1770834600@ohiooes.org
SUMMARY:Organist Honor Night
DESCRIPTION:
URL:https://ohiooes.org/event/organist-honor-night/
LOCATION:Worthington Chapter\, Northwest Masonic Temple\, 2436 W. Dublin-Granville Rd\, Columbus\, OH\, 43235\, United States
CATEGORIES:Worthington
END:VEVENT
BEGIN:VEVENT
DTSTART;TZID=America/New_York:20260214T170000
DTEND;TZID=America/New_York:20260214T170000
DTSTAMP:20260421T060641
CREATED:20251210T155505Z
LAST-MODIFIED:20251210T155505Z
UID:9375-1771088400-1771088400@ohiooes.org
SUMMARY:Sweetheart Dinner Fundraiser AGC
DESCRIPTION:Sweetheart Dinner Invitation
URL:https://ohiooes.org/event/sweetheart-dinner-fundraiser-agc/
LOCATION:Leasure Masonic Park\, 3867 NORTH POINTE DR\, Zanesville\, OH\, United States
END:VEVENT
BEGIN:VEVENT
DTSTART;TZID=America/New_York:20260215T140000
DTEND;TZID=America/New_York:20260215T140000
DTSTAMP:20260421T060641
CREATED:20251208T034645Z
LAST-MODIFIED:20251208T034645Z
UID:9362-1771164000-1771164000@ohiooes.org
SUMMARY:Reception for Grand Representative of Kansas
DESCRIPTION:Sharon’s Reception
URL:https://ohiooes.org/event/reception-for-grand-representative-of-kansas/
LOCATION:Covert Chapter\, 848 Clough Pike Road\, Withamsville\, OH\, 45245\, United States
CATEGORIES:Covert
END:VEVENT
BEGIN:VEVENT
DTSTART;TZID=America/New_York:20260221T130000
DTEND;TZID=America/New_York:20260221T130000
DTSTAMP:20260421T060641
CREATED:20251229T234407Z
LAST-MODIFIED:20260105T021410Z
UID:9486-1771678800-1771678800@ohiooes.org
SUMMARY:Exemplification Event NE Zone
DESCRIPTION:2026 Northeast Exemplification Invitation 02.21.26
URL:https://ohiooes.org/event/exemplification-event-ne-zone/
LOCATION:Falls Masonic Center\, 2307 Sacket Avenue\, Cuyahoga Falls\, OH\, 44223\, United States
END:VEVENT
BEGIN:VEVENT
DTSTART;TZID=America/New_York:20260221T180000
DTEND;TZID=America/New_York:20260221T180000
DTSTAMP:20260421T060641
CREATED:20251229T234551Z
LAST-MODIFIED:20251229T234551Z
UID:9488-1771696800-1771696800@ohiooes.org
SUMMARY:66 Club Event
DESCRIPTION:
URL:https://ohiooes.org/event/66-club-event/
END:VEVENT
BEGIN:VEVENT
DTSTART;TZID=America/New_York:20260222T140000
DTEND;TZID=America/New_York:20260222T140000
DTSTAMP:20260421T060641
CREATED:20251220T150458Z
LAST-MODIFIED:20251220T150458Z
UID:9434-1771768800-1771768800@ohiooes.org
SUMMARY:Visitation for DGM by WGM & WGP
DESCRIPTION:DGM Visitation Invitation 02.22.2026
URL:https://ohiooes.org/event/visitation-for-dgm-by-wgm-wgp/
LOCATION:Cuyahoga Falls Masonic Center\, 2307 Sackett Ave\, Cuyahoga Falls\, OH\, 44223\, United States
CATEGORIES:Falls
END:VEVENT
BEGIN:VEVENT
DTSTART;TZID=America/New_York:20260228T090000
DTEND;TZID=America/New_York:20260228T090000
DTSTAMP:20260421T060641
CREATED:20251229T235013Z
LAST-MODIFIED:20251229T235013Z
UID:9490-1772269200-1772269200@ohiooes.org
SUMMARY:Inspection Training for DGMs & LO's
DESCRIPTION:
URL:https://ohiooes.org/event/inspection-training-for-dgms-los/
LOCATION:OES Home/Gallagher Center\, 1451 Gambier Rd. Gallangher Centre. OES Home\, Mt. Vernon\, OH\, 43050\, United States
END:VEVENT
BEGIN:VEVENT
DTSTART;TZID=America/New_York:20260228T180000
DTEND;TZID=America/New_York:20260228T180000
DTSTAMP:20260421T060641
CREATED:20251228T175839Z
LAST-MODIFIED:20251228T175839Z
UID:9472-1772301600-1772301600@ohiooes.org
SUMMARY:District 12 Annual Banquet
DESCRIPTION:LKM Dinner 2026
URL:https://ohiooes.org/event/district-12-annual-banquet/
LOCATION:Moose Lodge Mt Vernon\, 417 W. High St.\, Mt. Vernon\, OH\, 43050\, United States
CATEGORIES:District 12
END:VEVENT
END:VCALENDAR