BEGIN:VCALENDAR
VERSION:2.0
PRODID:-//Ohio Grand Chapter - ECPv6.15.20//NONSGML v1.0//EN
CALSCALE:GREGORIAN
METHOD:PUBLISH
X-WR-CALNAME:Ohio Grand Chapter
X-ORIGINAL-URL:https://ohiooes.org
X-WR-CALDESC:Events for Ohio Grand Chapter
REFRESH-INTERVAL;VALUE=DURATION:PT1H
X-Robots-Tag:noindex
X-PUBLISHED-TTL:PT1H
BEGIN:VTIMEZONE
TZID:America/New_York
BEGIN:DAYLIGHT
TZOFFSETFROM:-0500
TZOFFSETTO:-0400
TZNAME:EDT
DTSTART:20240310T070000
END:DAYLIGHT
BEGIN:STANDARD
TZOFFSETFROM:-0400
TZOFFSETTO:-0500
TZNAME:EST
DTSTART:20241103T060000
END:STANDARD
BEGIN:DAYLIGHT
TZOFFSETFROM:-0500
TZOFFSETTO:-0400
TZNAME:EDT
DTSTART:20250309T070000
END:DAYLIGHT
BEGIN:STANDARD
TZOFFSETFROM:-0400
TZOFFSETTO:-0500
TZNAME:EST
DTSTART:20251102T060000
END:STANDARD
BEGIN:DAYLIGHT
TZOFFSETFROM:-0500
TZOFFSETTO:-0400
TZNAME:EDT
DTSTART:20260308T070000
END:DAYLIGHT
BEGIN:STANDARD
TZOFFSETFROM:-0400
TZOFFSETTO:-0500
TZNAME:EST
DTSTART:20261101T060000
END:STANDARD
END:VTIMEZONE
BEGIN:VEVENT
DTSTART;TZID=America/New_York:20250912T190000
DTEND;TZID=America/New_York:20250912T190000
DTSTAMP:20260420T105828
CREATED:20250314T202307Z
LAST-MODIFIED:20250314T202307Z
UID:7693-1757703600-1757703600@ohiooes.org
SUMMARY:District 22 Party
DESCRIPTION:
URL:https://ohiooes.org/event/district-22-party-2/
LOCATION:Covert Chapter\, 848 Clough Pike Road\, Withamsville\, OH\, 45245\, United States
CATEGORIES:Covert
END:VEVENT
BEGIN:VEVENT
DTSTART;VALUE=DATE:20250913
DTEND;VALUE=DATE:20250914
DTSTAMP:20260420T105828
CREATED:20250314T202829Z
LAST-MODIFIED:20250314T202829Z
UID:7697-1757721600-1757807999@ohiooes.org
SUMMARY:District 20 Party
DESCRIPTION:
URL:https://ohiooes.org/event/district-20-party-4/
LOCATION:Syrian Shrine\, 9730 Reading Road\, Reading\, OH\, 45215\, United States
CATEGORIES:District 20
END:VEVENT
END:VCALENDAR