BEGIN:VCALENDAR
VERSION:2.0
PRODID:-//Ohio Grand Chapter - ECPv6.15.20//NONSGML v1.0//EN
CALSCALE:GREGORIAN
METHOD:PUBLISH
X-ORIGINAL-URL:https://ohiooes.org
X-WR-CALDESC:Events for Ohio Grand Chapter
REFRESH-INTERVAL;VALUE=DURATION:PT1H
X-Robots-Tag:noindex
X-PUBLISHED-TTL:PT1H
BEGIN:VTIMEZONE
TZID:America/New_York
BEGIN:DAYLIGHT
TZOFFSETFROM:-0500
TZOFFSETTO:-0400
TZNAME:EDT
DTSTART:20250309T070000
END:DAYLIGHT
BEGIN:STANDARD
TZOFFSETFROM:-0400
TZOFFSETTO:-0500
TZNAME:EST
DTSTART:20251102T060000
END:STANDARD
BEGIN:DAYLIGHT
TZOFFSETFROM:-0500
TZOFFSETTO:-0400
TZNAME:EDT
DTSTART:20260308T070000
END:DAYLIGHT
BEGIN:STANDARD
TZOFFSETFROM:-0400
TZOFFSETTO:-0500
TZNAME:EST
DTSTART:20261101T060000
END:STANDARD
BEGIN:DAYLIGHT
TZOFFSETFROM:-0500
TZOFFSETTO:-0400
TZNAME:EDT
DTSTART:20270314T070000
END:DAYLIGHT
BEGIN:STANDARD
TZOFFSETFROM:-0400
TZOFFSETTO:-0500
TZNAME:EST
DTSTART:20271107T060000
END:STANDARD
END:VTIMEZONE
BEGIN:VEVENT
DTSTART;TZID=America/New_York:20260728T140000
DTEND;TZID=America/New_York:20260728T140000
DTSTAMP:20260421T074324
CREATED:20260324T161849Z
LAST-MODIFIED:20260324T161849Z
UID:10876-1785247200-1785247200@ohiooes.org
SUMMARY:Visitation by WGM & WGP for DGM
DESCRIPTION:
URL:https://ohiooes.org/event/visitation-by-wgm-wgp-for-dgm/
LOCATION:Triangle Chapter\, 130 South State Street\, Westerville\, OH\, 43081\, United States
CATEGORIES:Triangle
END:VEVENT
BEGIN:VEVENT
DTSTART;TZID=America/New_York:20260731T193000
DTEND;TZID=America/New_York:20260731T193000
DTSTAMP:20260421T074324
CREATED:20260105T030147Z
LAST-MODIFIED:20260105T030147Z
UID:9691-1785526200-1785526200@ohiooes.org
SUMMARY:125th Anniversary Clermont Chapter
DESCRIPTION:
URL:https://ohiooes.org/event/125th-anniversary-clermont-chapter/
LOCATION:Clermont Chapter\, 700 Market St.\, Felicity\, OH\, 45120\, United States
CATEGORIES:Clermont
END:VEVENT
BEGIN:VEVENT
DTSTART;TZID=America/New_York:20260805T193000
DTEND;TZID=America/New_York:20260805T193000
DTSTAMP:20260421T074324
CREATED:20260105T031237Z
LAST-MODIFIED:20260105T031237Z
UID:9701-1785958200-1785958200@ohiooes.org
SUMMARY:Reception for DGM by WGM & WGP
DESCRIPTION:
URL:https://ohiooes.org/event/reception-for-dgm-by-wgm-wgp-2/
LOCATION:Sereno Chapter\, 107 N. Market St\, McArthur\, OH\, 45651\, United States
CATEGORIES:Sereno
END:VEVENT
BEGIN:VEVENT
DTSTART;TZID=America/New_York:20260824T190000
DTEND;TZID=America/New_York:20260824T190000
DTSTAMP:20260421T074324
CREATED:20260105T031356Z
LAST-MODIFIED:20260105T031356Z
UID:9703-1787598000-1787598000@ohiooes.org
SUMMARY:Reception for DGM by WGM & WGP
DESCRIPTION:
URL:https://ohiooes.org/event/reception-for-dgm-by-wgm-wgp-3/
LOCATION:Stokes Chapter\, 213 W. Main St.\, Port Jefferson\, OH\, 45360\, United States
CATEGORIES:Stokes
END:VEVENT
BEGIN:VEVENT
DTSTART;TZID=America/New_York:20260903T193000
DTEND;TZID=America/New_York:20260903T193000
DTSTAMP:20260421T074324
CREATED:20260105T031519Z
LAST-MODIFIED:20260105T031519Z
UID:9705-1788463800-1788463800@ohiooes.org
SUMMARY:Reception for DGM by WGM & WGP
DESCRIPTION:
URL:https://ohiooes.org/event/reception-for-dgm-by-wgm-wgp-4/
LOCATION:London Chapter\, 65 N. Main St.\, London\, OH\, 43140\, United States
CATEGORIES:London
END:VEVENT
BEGIN:VEVENT
DTSTART;TZID=America/New_York:20260904T190000
DTEND;TZID=America/New_York:20260904T190000
DTSTAMP:20260421T074324
CREATED:20260105T031637Z
LAST-MODIFIED:20260105T031637Z
UID:9707-1788548400-1788548400@ohiooes.org
SUMMARY:Reception for DGM by WGM & WGP
DESCRIPTION:
URL:https://ohiooes.org/event/reception-for-dgm-by-wgm-wgp-5/
LOCATION:Belpre Chapter\, 1411 Putnam Howe Dr.\, Belpre\, OH\, 45714\, United States
CATEGORIES:Belpre
END:VEVENT
BEGIN:VEVENT
DTSTART;TZID=America/New_York:20260918T193000
DTEND;TZID=America/New_York:20260918T193000
DTSTAMP:20260421T074324
CREATED:20260105T032103Z
LAST-MODIFIED:20260105T032103Z
UID:9713-1789759800-1789759800@ohiooes.org
SUMMARY:Reception for Grand Sentinel
DESCRIPTION:
URL:https://ohiooes.org/event/reception-for-grand-sentinel/
LOCATION:Chillicothe Chapter\, 48 W. Main St\, Chillicothe\, OH\, 45601\, United States
CATEGORIES:Chillicothe
END:VEVENT
BEGIN:VEVENT
DTSTART;TZID=America/New_York:20260919T130000
DTEND;TZID=America/New_York:20260919T130000
DTSTAMP:20260421T074324
CREATED:20260105T032239Z
LAST-MODIFIED:20260105T032239Z
UID:9715-1789822800-1789822800@ohiooes.org
SUMMARY:Reception for Grand Warder
DESCRIPTION:
URL:https://ohiooes.org/event/reception-for-grand-warder/
LOCATION:Jacob Eby Chapter\, 25 E. Central Ave\, West Carrollton\, OH\, 45449\, United States
CATEGORIES:Jacob Eby
END:VEVENT
BEGIN:VEVENT
DTSTART;VALUE=DATE:20260920
DTEND;VALUE=DATE:20260921
DTSTAMP:20260421T074324
CREATED:20260105T032444Z
LAST-MODIFIED:20260105T032444Z
UID:9717-1789862400-1789948799@ohiooes.org
SUMMARY:Reception for Personal Secretary to WGM
DESCRIPTION:
URL:https://ohiooes.org/event/reception-for-personal-secretary-to-wgm/
LOCATION:Mary Chapter\, 330 S. Main St.\, Marysville\, OH\, 43040\, United States
CATEGORIES:Mary
END:VEVENT
END:VCALENDAR